BEGIN:VCALENDAR
VERSION:2.0
PRODID:-//Hare Kryszna Wrocław - ECPv5.12.2//NONSGML v1.0//EN
CALSCALE:GREGORIAN
METHOD:PUBLISH
X-WR-CALNAME:Hare Kryszna Wrocław
X-ORIGINAL-URL:https://harekryszna.wroclaw.pl
X-WR-CALDESC:Wydarzenia dla Hare Kryszna Wrocław
BEGIN:VTIMEZONE
TZID:Europe/Warsaw
BEGIN:DAYLIGHT
TZOFFSETFROM:+0100
TZOFFSETTO:+0200
TZNAME:CEST
DTSTART:20180325T010000
END:DAYLIGHT
BEGIN:STANDARD
TZOFFSETFROM:+0200
TZOFFSETTO:+0100
TZNAME:CET
DTSTART:20181028T010000
END:STANDARD
END:VTIMEZONE
BEGIN:VEVENT
DTSTART;TZID=Europe/Warsaw:20180428T043000
DTEND;TZID=Europe/Warsaw:20180429T200000
DTSTAMP:20260421T172852
CREATED:20180418T084548Z
LAST-MODIFIED:20180426T152503Z
UID:885-1524889800-1525032000@harekryszna.wroclaw.pl
SUMMARY:XXIV Dni Kultury Wedyjskiej
DESCRIPTION:Zapraszamy na XXIV festiwal Dni Kultury Wedyjskiej\, który odbędzie się w świątyni we Wrocławiu 28-29 kwietnia 2018 roku. Gościem specjalnym festiwalu będzie Prahladananda Swami. 28 kwietnia przypada święto Narasimha Caturdasi (dzień pojawienia się Sri Narasimhadeva). W programie festiwalu przewidujemy harinam\, abhisek Sri Śri Laksmi-Narasimha\, wykłady Maharaja i sponsorowana ucztę.
URL:https://harekryszna.wroclaw.pl/wydarzenie/xxiv-dni-kultury-wedyjskiej/
LOCATION:Świątynia Nowe Nawadwip\, Brodzka 157\, Wrocław\, Polska
CATEGORIES:Festiwale
ATTACH;FMTTYPE=image/jpeg:https://harekryszna.wroclaw.pl/wp-content/uploads/2018/04/PLAKAT-DKW.jpg
END:VEVENT
END:VCALENDAR