BEGIN:VCALENDAR
VERSION:2.0
PRODID:-//Hare Kryszna Wrocław - ECPv5.12.2//NONSGML v1.0//EN
CALSCALE:GREGORIAN
METHOD:PUBLISH
X-WR-CALNAME:Hare Kryszna Wrocław
X-ORIGINAL-URL:https://harekryszna.wroclaw.pl
X-WR-CALDESC:Wydarzenia dla Hare Kryszna Wrocław
BEGIN:VTIMEZONE
TZID:Europe/Warsaw
BEGIN:DAYLIGHT
TZOFFSETFROM:+0100
TZOFFSETTO:+0200
TZNAME:CEST
DTSTART:20180325T010000
END:DAYLIGHT
BEGIN:STANDARD
TZOFFSETFROM:+0200
TZOFFSETTO:+0100
TZNAME:CET
DTSTART:20181028T010000
END:STANDARD
END:VTIMEZONE
BEGIN:VEVENT
DTSTART;TZID=Europe/Warsaw:20180417T180000
DTEND;TZID=Europe/Warsaw:20180417T200000
DTSTAMP:20260421T153510
CREATED:20180412T082145Z
LAST-MODIFIED:20180412T082145Z
UID:869-1523988000-1523995200@harekryszna.wroclaw.pl
SUMMARY:Ogólnoświatowe tourne Pana Nityanandy
DESCRIPTION:Wydarzenie to stanowi część wielkiego festiwalu organizowanym po raz pierwszy przez Temple of Vedic Planetarium.\nW ramach projektu “Lord Nityananda on a world tour” w towarzystwie niezwykłych wielbicieli przyjadą do nas buty Pana Nityanandy oraz sitari (hełm) Pana Nrisimhadeva ze świątyni Mayapur Chandrodaya Mandir.\nStanowimy jeden z 9 krajów\, biorących udział w tym niecodziennym wydarzeniu o ogromnej mocy duchowej.\n17 kwietnia o godz.18.00 w Świątyni wrocławskiej odbędzie się specjalny program z udziałem Vraja Vilas Prabhu oraz Jananivas Prabhu.\nZapraszamy serdecznie.\nWięcej informacji o tourne (w jęz. angielskim) w poniższym linku:\nhttps://www.facebook.com/tovp.mayapur/posts/1488044127942799
URL:https://harekryszna.wroclaw.pl/wydarzenie/ogolnoswiatowe-tourne-pana-nityanandy/
LOCATION:Świątynia Nowe Nawadwip\, Brodzka 157\, Wrocław\, Polska
CATEGORIES:Seminaria
ATTACH;FMTTYPE=image/jpeg:https://harekryszna.wroclaw.pl/wp-content/uploads/2018/04/Tour-Nityanandy.jpg
END:VEVENT
END:VCALENDAR