BEGIN:VCALENDAR
VERSION:2.0
PRODID:-//Hare Kryszna Wrocław - ECPv5.12.2//NONSGML v1.0//EN
CALSCALE:GREGORIAN
METHOD:PUBLISH
X-WR-CALNAME:Hare Kryszna Wrocław
X-ORIGINAL-URL:https://harekryszna.wroclaw.pl
X-WR-CALDESC:Wydarzenia dla Hare Kryszna Wrocław
BEGIN:VTIMEZONE
TZID:Europe/Warsaw
BEGIN:DAYLIGHT
TZOFFSETFROM:+0100
TZOFFSETTO:+0200
TZNAME:CEST
DTSTART:20180325T010000
END:DAYLIGHT
BEGIN:STANDARD
TZOFFSETFROM:+0200
TZOFFSETTO:+0100
TZNAME:CET
DTSTART:20181028T010000
END:STANDARD
END:VTIMEZONE
BEGIN:VEVENT
DTSTART;TZID=Europe/Warsaw:20181111T113000
DTEND;TZID=Europe/Warsaw:20181111T173000
DTSTAMP:20260422T002014
CREATED:20181101T145442Z
LAST-MODIFIED:20181101T153148Z
UID:941-1541935800-1541957400@harekryszna.wroclaw.pl
SUMMARY:Odejście Śrila Prabhupady 2018
DESCRIPTION:English below. \nSerdecznie zapraszamy na 2 dniowy festiwal – 10-11 listopada. Pierwszego dnia celebrujemy Gowardhana-pudżę (szczegóły tutaj)\, drugiego dnia\, w niedzielę\, odejście Śrila Prabhupady\, podczas którego odbędzie się premierowy pokaz filmu “Hare Krishna!”. \nPlan rocznicy odejścia Śrila Prabhupady (11 listopada):\n11:30 – Harinam (śpiewający korowód) – zbiórka pod budynkiem NOT na ul. Piłsudskiego\nW świątyni:\n14:00 – bhadżan\n15:00 – pokaz filmu “Hare Krishna! The Mantra\, the Movement and the Swami who started it all” – z tłumaczeniem na j. polski.\n16:00 – Gaura-arati\n16:30 – Uczta \nWy invite you for 2 days festival – 10-11 November. On first day (Saturday) we celebrate Govardhana-puja (details of 1st day here)\, on the second – Shrila Prabhupada Dissapearence day.\nPlan of Prabhupada’s Dissapearence day:\n11:30 – Harinam in Wroclaw center (meeting-point – NOT – Piłsudski Street 74)\n14:00 – Bhajan\n15:00 – Screening of the movie “Hare Krishna! The Mantra\, the Movement and the Swami who started it all” More about the movie: http://www.harekrishnathefilm.com/\n16:00 – Gaura-arati\n16:30 – Feast
URL:https://harekryszna.wroclaw.pl/wydarzenie/odejscie-srila-prabhupady-2018/
LOCATION:Świątynia Nowe Nawadwip\, Brodzka 157\, Wrocław\, Polska
CATEGORIES:Festiwale
ATTACH;FMTTYPE=image/jpeg:https://harekryszna.wroclaw.pl/wp-content/uploads/2018/11/HareKrishna-Postcard-FrontSide422x622.jpg
END:VEVENT
END:VCALENDAR