BEGIN:VCALENDAR
VERSION:2.0
PRODID:-//Hare Kryszna Wrocław - ECPv5.12.2//NONSGML v1.0//EN
CALSCALE:GREGORIAN
METHOD:PUBLISH
X-WR-CALNAME:Hare Kryszna Wrocław
X-ORIGINAL-URL:https://harekryszna.wroclaw.pl
X-WR-CALDESC:Wydarzenia dla Hare Kryszna Wrocław
BEGIN:VTIMEZONE
TZID:Europe/Warsaw
BEGIN:DAYLIGHT
TZOFFSETFROM:+0100
TZOFFSETTO:+0200
TZNAME:CEST
DTSTART:20180325T010000
END:DAYLIGHT
BEGIN:STANDARD
TZOFFSETFROM:+0200
TZOFFSETTO:+0100
TZNAME:CET
DTSTART:20181028T010000
END:STANDARD
END:VTIMEZONE
BEGIN:VEVENT
DTSTART;TZID=Europe/Warsaw:20180325T113000
DTEND;TZID=Europe/Warsaw:20180325T180000
DTSTAMP:20260421T140411
CREATED:20180317T073005Z
LAST-MODIFIED:20180317T073237Z
UID:836-1521977400-1522000800@harekryszna.wroclaw.pl
SUMMARY:Festiwal Rama Navami 2018
DESCRIPTION:Hare Kryszna! Jay Sita Ram! (English below) \nJuż się zbliża jedno ze wspanialszych świąt wiosny – Rama Nawami! Serdecznie zapraszamy do naszej świątyni w niedzielę 25 marca. Oto plan:\n11:30 Harinam (śpiewający korowód) w centrum miasta – zbiórka pod budynkiem NOT na ul. Piłsudskiego\n13:00 – Bhadżan/kirtan: Lalita Matadżi\, Anupam Prabhu i Dwarakaczjuta Prabhu\n14:45 – Prezentacja i wykład Rupy Mandżari Matadżi\n16:15 – Uroczyste arati\n17:00 – Uczta (sponsorowana\, dotacje mile widziane) gotuje Matadżi Nama Rasana\nPrzybywajcie! \nWe invite you for Ram Navami celebration. Plan of the festival:\n11:30 – Harinam (in the city center)\n13:00 – Bhajan/kirtan: Lalita Mataji\, Anupam Prabhu i Dvarakacyuta Prabhu\n14:45 – Lecture by Rupy Manjari Mataji (with simultaneous translation to English)\n16:15 – Arati ceremony\n17:00 – Feast (sponsored\, donations welcome) – Nama Rasana is a chef
URL:https://harekryszna.wroclaw.pl/wydarzenie/festiwal-rama-navami-2018/
LOCATION:Świątynia Nowe Nawadwip\, Brodzka 157\, Wrocław\, Polska
CATEGORIES:Festiwale
ATTACH;FMTTYPE=image/jpeg:https://harekryszna.wroclaw.pl/wp-content/uploads/2018/03/SitaRamacandraLaxmanHanuman.jpg
END:VEVENT
END:VCALENDAR