BEGIN:VCALENDAR
VERSION:2.0
PRODID:-//Hare Kryszna Wrocław - ECPv5.12.2//NONSGML v1.0//EN
CALSCALE:GREGORIAN
METHOD:PUBLISH
X-WR-CALNAME:Hare Kryszna Wrocław
X-ORIGINAL-URL:https://harekryszna.wroclaw.pl
X-WR-CALDESC:Wydarzenia dla Hare Kryszna Wrocław
BEGIN:VTIMEZONE
TZID:Europe/Warsaw
BEGIN:DAYLIGHT
TZOFFSETFROM:+0100
TZOFFSETTO:+0200
TZNAME:CEST
DTSTART:20190331T010000
END:DAYLIGHT
BEGIN:STANDARD
TZOFFSETFROM:+0200
TZOFFSETTO:+0100
TZNAME:CET
DTSTART:20191027T010000
END:STANDARD
END:VTIMEZONE
BEGIN:VEVENT
DTSTART;TZID=Europe/Warsaw:20190223T120000
DTEND;TZID=Europe/Warsaw:20190223T190000
DTSTAMP:20260422T054211
CREATED:20190212T130750Z
LAST-MODIFIED:20190212T130750Z
UID:987-1550923200-1550948400@harekryszna.wroclaw.pl
SUMMARY:Dzień Świętego Imienia
DESCRIPTION:23 lutego\, w sobotę zapraszamy do świątyni we Wrocławiu na Dzień Świętego Imienia. Zaczynamy o 12:00. Przerwa na obiad 15:00-16:00. Oficjalny koniec o 19:00. Osoby chętne do prowadzenia bhajanów prosimy o kontakt z głównym organizatorem Dayala Candrą dasem.
URL:https://harekryszna.wroclaw.pl/wydarzenie/dzien-swietego-imienia-2/
LOCATION:Świątynia Nowe Nawadwip\, Brodzka 157\, Wrocław\, Polska
CATEGORIES:Festiwale,Kirtan
ATTACH;FMTTYPE=image/jpeg:https://harekryszna.wroclaw.pl/wp-content/uploads/2019/02/371.jpg
END:VEVENT
END:VCALENDAR